BEGIN:VCALENDAR
VERSION:2.0
PRODID:-//Seldon Finance - ECPv6.9.1//NONSGML v1.0//EN
CALSCALE:GREGORIAN
METHOD:PUBLISH
X-ORIGINAL-URL:https://www.seldon-finance.com
X-WR-CALDESC:Évènements pour Seldon Finance
REFRESH-INTERVAL;VALUE=DURATION:PT1H
X-Robots-Tag:noindex
X-PUBLISHED-TTL:PT1H
BEGIN:VTIMEZONE
TZID:Europe/Paris
BEGIN:DAYLIGHT
TZOFFSETFROM:+0100
TZOFFSETTO:+0200
TZNAME:CEST
DTSTART:20260329T010000
END:DAYLIGHT
BEGIN:STANDARD
TZOFFSETFROM:+0200
TZOFFSETTO:+0100
TZNAME:CET
DTSTART:20261025T010000
END:STANDARD
END:VTIMEZONE
BEGIN:VEVENT
DTSTART;TZID=Europe/Paris:20260122T110000
DTEND;TZID=Europe/Paris:20260122T120000
DTSTAMP:20260423T183550
CREATED:20260108T112816Z
LAST-MODIFIED:20260108T112816Z
UID:5440-1769079600-1769083200@www.seldon-finance.com
SUMMARY:WEBINAIRE | Ouverture de l'exercice 2026 avec WEBGET Trésorerie
DESCRIPTION:Nous vous invitons à participer au prochain webinaire consacré à l’ouverture de l’exercice 2026\, en s’appuyant sur notre outil de gestion de la trésorerie : WEBGET Trésorerie. \n\nLe jeudi 22 janvier 2026\nDe 11h à 12h\n\nInscription en ligne
URL:https://www.seldon-finance.com/formation/webinaire-ouverture-de-lexercice-2026-avec-webget-tresorerie/
LOCATION:En visioconférence
CATEGORIES:Webinaire
ATTACH;FMTTYPE=image/png:https://www.seldon-finance.com/wp-content/uploads/2025/01/webinaire_200x200.png
END:VEVENT
END:VCALENDAR