BEGIN:VCALENDAR
VERSION:2.0
PRODID:-//Seldon Finance - ECPv6.9.1//NONSGML v1.0//EN
CALSCALE:GREGORIAN
METHOD:PUBLISH
X-WR-CALNAME:Seldon Finance
X-ORIGINAL-URL:https://www.seldon-finance.com
X-WR-CALDESC:Évènements pour Seldon Finance
REFRESH-INTERVAL;VALUE=DURATION:PT1H
X-Robots-Tag:noindex
X-PUBLISHED-TTL:PT1H
BEGIN:VTIMEZONE
TZID:Europe/Paris
BEGIN:DAYLIGHT
TZOFFSETFROM:+0100
TZOFFSETTO:+0200
TZNAME:CEST
DTSTART:20260329T010000
END:DAYLIGHT
BEGIN:STANDARD
TZOFFSETFROM:+0200
TZOFFSETTO:+0100
TZNAME:CET
DTSTART:20261025T010000
END:STANDARD
END:VTIMEZONE
BEGIN:VEVENT
DTSTART;TZID=Europe/Paris:20260120T090000
DTEND;TZID=Europe/Paris:20260120T140000
DTSTAMP:20260423T184427
CREATED:20251218T114309Z
LAST-MODIFIED:20251218T114309Z
UID:5429-1768899600-1768917600@www.seldon-finance.com
SUMMARY:RDV Financiers | Bayonne | Loi de Finances 2026
DESCRIPTION:Le Groupe Seldon vous propose une nouvelle édition des Rendez-Vous Financiers à Bayonne le MARDI 20 JANVIER 2026.  \nCette matinée d’étude sera consacrée à la Loi de Finance 2026 et à l’identification des marges de manœuvre financières pour les collectivités\, dans un contexte de déficit public élevé. \nInscription en ligne
URL:https://www.seldon-finance.com/formation/rdv-financiers-bayonne-loi-de-finances-2026/
LOCATION:Bayonne
CATEGORIES:Les rendez-vous financiers
ATTACH;FMTTYPE=image/png:https://www.seldon-finance.com/wp-content/uploads/2025/01/rdv-financier.png
END:VEVENT
END:VCALENDAR