BEGIN:VCALENDAR
VERSION:2.0
PRODID:-//Seldon Finance - ECPv6.9.1//NONSGML v1.0//EN
CALSCALE:GREGORIAN
METHOD:PUBLISH
X-ORIGINAL-URL:https://www.seldon-finance.com
X-WR-CALDESC:Évènements pour Seldon Finance
REFRESH-INTERVAL;VALUE=DURATION:PT1H
X-Robots-Tag:noindex
X-PUBLISHED-TTL:PT1H
BEGIN:VTIMEZONE
TZID:Europe/Paris
BEGIN:DAYLIGHT
TZOFFSETFROM:+0100
TZOFFSETTO:+0200
TZNAME:CEST
DTSTART:20250330T010000
END:DAYLIGHT
BEGIN:STANDARD
TZOFFSETFROM:+0200
TZOFFSETTO:+0100
TZNAME:CET
DTSTART:20251026T010000
END:STANDARD
END:VTIMEZONE
BEGIN:VEVENT
DTSTART;TZID=Europe/Paris:20251113T090000
DTEND;TZID=Europe/Paris:20251113T140000
DTSTAMP:20260423T213349
CREATED:20250926T084018Z
LAST-MODIFIED:20251002T142749Z
UID:5343-1763024400-1763042400@www.seldon-finance.com
SUMMARY:RDV Financiers | Montpellier | Décryptage PLF 2026
DESCRIPTION:Le Groupe Seldon vous propose une nouvelle édition des Rendez-Vous Financiers à Montpellier le JEUDI 13 NOVEMBRE 2025.  \nCette matinée d’étude sera consacrée à la préparation des budgets 2026 dans un contexte politique et institutionnel instable. \nInscription en ligne
URL:https://www.seldon-finance.com/formation/rdv-financier-montpellier-2025/
LOCATION:Montpellier
CATEGORIES:Les rendez-vous financiers
ATTACH;FMTTYPE=image/png:https://www.seldon-finance.com/wp-content/uploads/2025/01/rdv-financier.png
END:VEVENT
END:VCALENDAR