BEGIN:VCALENDAR
VERSION:2.0
PRODID:-//Seldon Finance - ECPv6.9.1//NONSGML v1.0//EN
CALSCALE:GREGORIAN
METHOD:PUBLISH
X-WR-CALNAME:Seldon Finance
X-ORIGINAL-URL:https://www.seldon-finance.com
X-WR-CALDESC:Évènements pour Seldon Finance
REFRESH-INTERVAL;VALUE=DURATION:PT1H
X-Robots-Tag:noindex
X-PUBLISHED-TTL:PT1H
BEGIN:VTIMEZONE
TZID:Europe/Paris
BEGIN:DAYLIGHT
TZOFFSETFROM:+0100
TZOFFSETTO:+0200
TZNAME:CEST
DTSTART:20250330T010000
END:DAYLIGHT
BEGIN:STANDARD
TZOFFSETFROM:+0200
TZOFFSETTO:+0100
TZNAME:CET
DTSTART:20251026T010000
END:STANDARD
END:VTIMEZONE
BEGIN:VEVENT
DTSTART;TZID=Europe/Paris:20251016T110000
DTEND;TZID=Europe/Paris:20251016T120000
DTSTAMP:20260423T225213
CREATED:20250926T093708Z
LAST-MODIFIED:20250926T093708Z
UID:5348-1760612400-1760616000@www.seldon-finance.com
SUMMARY:DÉMO | Wininvest Patrimoine ; de l’inventaire physique à la comptabilité
DESCRIPTION:Participez à la prochaine démo du logiciel WININVEST Patrimoine. \n\nJeudi 16 octobre 2025\nDe 11h à 12h\n\nInscription en ligne 
URL:https://www.seldon-finance.com/formation/demo-wininvest-patrimoine-de-linventaire-physique-a-la-comptabilite/
LOCATION:En visioconférence
CATEGORIES:Démo
ATTACH;FMTTYPE=image/png:https://www.seldon-finance.com/wp-content/uploads/2025/01/demo_200x200.png
END:VEVENT
END:VCALENDAR