BEGIN:VCALENDAR
VERSION:2.0
PRODID:-//Seldon Finance - ECPv6.9.1//NONSGML v1.0//EN
CALSCALE:GREGORIAN
METHOD:PUBLISH
X-ORIGINAL-URL:https://www.seldon-finance.com
X-WR-CALDESC:Évènements pour Seldon Finance
REFRESH-INTERVAL;VALUE=DURATION:PT1H
X-Robots-Tag:noindex
X-PUBLISHED-TTL:PT1H
BEGIN:VTIMEZONE
TZID:Europe/Paris
BEGIN:DAYLIGHT
TZOFFSETFROM:+0100
TZOFFSETTO:+0200
TZNAME:CEST
DTSTART:20250330T010000
END:DAYLIGHT
BEGIN:STANDARD
TZOFFSETFROM:+0200
TZOFFSETTO:+0100
TZNAME:CET
DTSTART:20251026T010000
END:STANDARD
END:VTIMEZONE
BEGIN:VEVENT
DTSTART;TZID=Europe/Paris:20250701T090000
DTEND;TZID=Europe/Paris:20250701T160000
DTSTAMP:20260424T030842
CREATED:20250410T130819Z
LAST-MODIFIED:20250410T130819Z
UID:5180-1751360400-1751385600@www.seldon-finance.com
SUMMARY:RDV Financier Les Sables d'Olonne | Les finances locales dans la tourmente
DESCRIPTION:Le Groupe Seldon vous propose une nouvelle édition des Rendez-Vous Financiers aux Sables d’Olonne le mardi 01 juillet pour analyser ensemble les difficultés financières de l’État et leurs répercussions sur les finances locales. \nInscription en ligne
URL:https://www.seldon-finance.com/formation/rdv-financier-les-sables-dolonne-les-finances-locales-dans-la-tourmente/
LOCATION:Sables d’Olonne
CATEGORIES:Les rendez-vous financiers
ATTACH;FMTTYPE=image/png:https://www.seldon-finance.com/wp-content/uploads/2025/01/rdv-financier.png
END:VEVENT
END:VCALENDAR