BEGIN:VCALENDAR
VERSION:2.0
PRODID:-//Seldon Finance - ECPv6.9.1//NONSGML v1.0//EN
CALSCALE:GREGORIAN
METHOD:PUBLISH
X-WR-CALNAME:Seldon Finance
X-ORIGINAL-URL:https://www.seldon-finance.com
X-WR-CALDESC:Évènements pour Seldon Finance
REFRESH-INTERVAL;VALUE=DURATION:PT1H
X-Robots-Tag:noindex
X-PUBLISHED-TTL:PT1H
BEGIN:VTIMEZONE
TZID:Europe/Paris
BEGIN:DAYLIGHT
TZOFFSETFROM:+0100
TZOFFSETTO:+0200
TZNAME:CEST
DTSTART:20250330T010000
END:DAYLIGHT
BEGIN:STANDARD
TZOFFSETFROM:+0200
TZOFFSETTO:+0100
TZNAME:CET
DTSTART:20251026T010000
END:STANDARD
END:VTIMEZONE
BEGIN:VEVENT
DTSTART;TZID=Europe/Paris:20250410T110000
DTEND;TZID=Europe/Paris:20250410T120000
DTSTAMP:20260424T075634
CREATED:20250312T150212Z
LAST-MODIFIED:20250312T150215Z
UID:5112-1744282800-1744286400@www.seldon-finance.com
SUMMARY:WEBINAIRE | Financements et consultations ; comparateur d'offres
DESCRIPTION:Participez à notre prochain webinaire dédié aux financements et consultations bancaires ! \nLe comparateur d’offres : un outil indispensable pour maximiser votre pouvoir de négociation. \nFormulaire d’inscription
URL:https://www.seldon-finance.com/formation/webinaire-financements-et-consultations-comparateur-doffres/
LOCATION:En visioconférence
CATEGORIES:Webinaire
ATTACH;FMTTYPE=image/png:https://www.seldon-finance.com/wp-content/uploads/2025/01/webinaire_200x200.png
END:VEVENT
END:VCALENDAR