BEGIN:VCALENDAR
VERSION:2.0
PRODID:-//Seldon Finance - ECPv6.9.1//NONSGML v1.0//EN
CALSCALE:GREGORIAN
METHOD:PUBLISH
X-WR-CALNAME:Seldon Finance
X-ORIGINAL-URL:https://www.seldon-finance.com
X-WR-CALDESC:Évènements pour Seldon Finance
REFRESH-INTERVAL;VALUE=DURATION:PT1H
X-Robots-Tag:noindex
X-PUBLISHED-TTL:PT1H
BEGIN:VTIMEZONE
TZID:Europe/Paris
BEGIN:DAYLIGHT
TZOFFSETFROM:+0100
TZOFFSETTO:+0200
TZNAME:CEST
DTSTART:20250330T010000
END:DAYLIGHT
BEGIN:STANDARD
TZOFFSETFROM:+0200
TZOFFSETTO:+0100
TZNAME:CET
DTSTART:20251026T010000
END:STANDARD
END:VTIMEZONE
BEGIN:VEVENT
DTSTART;TZID=Europe/Paris:20250206T100000
DTEND;TZID=Europe/Paris:20250206T120000
DTSTAMP:20260424T105155
CREATED:20250110T145541Z
LAST-MODIFIED:20250116T101931Z
UID:4981-1738836000-1738843200@www.seldon-finance.com
SUMMARY:CLUB UTILISATEUR | Prospective Financière
DESCRIPTION:Seldon Finance vous invite à participer au premier Club Utilisateur virtuel autour de notre logiciel dédié à la prospective et l’analyse financière : Webprev Prospective. \n  \nFormulaire d’inscription
URL:https://www.seldon-finance.com/formation/club-prospective-financiere/
LOCATION:En visioconférence
CATEGORIES:Club Prospective
ATTACH;FMTTYPE=image/png:https://www.seldon-finance.com/wp-content/uploads/2025/01/club-prospective_200x200ok.png
END:VEVENT
END:VCALENDAR