BEGIN:VCALENDAR
VERSION:2.0
PRODID:-//Seldon Finance - ECPv6.9.1//NONSGML v1.0//EN
CALSCALE:GREGORIAN
METHOD:PUBLISH
X-WR-CALNAME:Seldon Finance
X-ORIGINAL-URL:https://www.seldon-finance.com
X-WR-CALDESC:Évènements pour Seldon Finance
REFRESH-INTERVAL;VALUE=DURATION:PT1H
X-Robots-Tag:noindex
X-PUBLISHED-TTL:PT1H
BEGIN:VTIMEZONE
TZID:Europe/Paris
BEGIN:DAYLIGHT
TZOFFSETFROM:+0100
TZOFFSETTO:+0200
TZNAME:CEST
DTSTART:20250330T010000
END:DAYLIGHT
BEGIN:STANDARD
TZOFFSETFROM:+0200
TZOFFSETTO:+0100
TZNAME:CET
DTSTART:20251026T010000
END:STANDARD
END:VTIMEZONE
BEGIN:VEVENT
DTSTART;TZID=Europe/Paris:20250123T110000
DTEND;TZID=Europe/Paris:20250123T120000
DTSTAMP:20260424T122157
CREATED:20250110T105252Z
LAST-MODIFIED:20250110T105252Z
UID:4970-1737630000-1737633600@www.seldon-finance.com
SUMMARY:WEBINAIRE | Préparation budgétaire 2025
DESCRIPTION:Nous vous proposons de participer à notre prochain webinaire consacré aux prévisions budgétaires 2025 avec notre solution Webdette Emprunts. \nFormulaire d’inscription
URL:https://www.seldon-finance.com/formation/webinaire-preparation-budgetaire-2025-2/
LOCATION:En visioconférence
CATEGORIES:Webinaire
ATTACH;FMTTYPE=image/png:https://www.seldon-finance.com/wp-content/uploads/2025/01/webinaire_200x200.png
END:VEVENT
END:VCALENDAR