BEGIN:VCALENDAR
VERSION:2.0
PRODID:-//Seldon Finance - ECPv6.9.1//NONSGML v1.0//EN
CALSCALE:GREGORIAN
METHOD:PUBLISH
X-ORIGINAL-URL:https://www.seldon-finance.com
X-WR-CALDESC:Évènements pour Seldon Finance
REFRESH-INTERVAL;VALUE=DURATION:PT1H
X-Robots-Tag:noindex
X-PUBLISHED-TTL:PT1H
BEGIN:VTIMEZONE
TZID:Europe/Paris
BEGIN:DAYLIGHT
TZOFFSETFROM:+0100
TZOFFSETTO:+0200
TZNAME:CEST
DTSTART:20240331T010000
END:DAYLIGHT
BEGIN:STANDARD
TZOFFSETFROM:+0200
TZOFFSETTO:+0100
TZNAME:CET
DTSTART:20241027T010000
END:STANDARD
END:VTIMEZONE
BEGIN:VEVENT
DTSTART;TZID=Europe/Paris:20241210T110000
DTEND;TZID=Europe/Paris:20241210T120000
DTSTAMP:20260424T135341
CREATED:20241127T111255Z
LAST-MODIFIED:20241127T111344Z
UID:4927-1733828400-1733832000@www.seldon-finance.com
SUMMARY:WEBINAIRE : Décryptage PLF 2025
DESCRIPTION:Nous vous proposons de participer à une deuxième session de notre prochain webinaire consacré au décryptage du Projet de Loi de Finances 2025\, dans un contexte politique complexe et inédit. \nFormulaire d’inscription
URL:https://www.seldon-finance.com/formation/webinaire-decryptage-plf-2025/
LOCATION:En visioconférence
CATEGORIES:Webinaire
ATTACH;FMTTYPE=image/png:https://www.seldon-finance.com/wp-content/uploads/2022/07/webinaire_96x96.png
END:VEVENT
END:VCALENDAR