BEGIN:VCALENDAR
VERSION:2.0
PRODID:-//Seldon Finance - ECPv6.9.1//NONSGML v1.0//EN
CALSCALE:GREGORIAN
METHOD:PUBLISH
X-WR-CALNAME:Seldon Finance
X-ORIGINAL-URL:https://www.seldon-finance.com
X-WR-CALDESC:Évènements pour Seldon Finance
REFRESH-INTERVAL;VALUE=DURATION:PT1H
X-Robots-Tag:noindex
X-PUBLISHED-TTL:PT1H
BEGIN:VTIMEZONE
TZID:Europe/Paris
BEGIN:DAYLIGHT
TZOFFSETFROM:+0100
TZOFFSETTO:+0200
TZNAME:CEST
DTSTART:20240331T010000
END:DAYLIGHT
BEGIN:STANDARD
TZOFFSETFROM:+0200
TZOFFSETTO:+0100
TZNAME:CET
DTSTART:20241027T010000
END:STANDARD
END:VTIMEZONE
BEGIN:VEVENT
DTSTART;TZID=Europe/Paris:20240328T100000
DTEND;TZID=Europe/Paris:20240328T110000
DTSTAMP:20260425T022816
CREATED:20240304T153233Z
LAST-MODIFIED:20240314T094804Z
UID:4548-1711620000-1711623600@www.seldon-finance.com
SUMMARY:DÉMO | Mobilae : L'observatoire du Versement Mobilité
DESCRIPTION:Le Versement Mobilité représente la principale ressource des Autorités Organisatrices de la Mobilité pour le financement des services de mobilité sur leur territoire. \nIl est essentiel de disposer d’un observatoire de cette taxe qui permettra\, au travers d’outils adaptés et de méthodologies ciblées\, d’établir : \n\nUn suivi financier pour une meilleure gestion de trésorerie ;\nUn contrôle mensuel permettant d’analyser et justifier des variations et régularisations de la taxe ;\nUne optimisation effectuée au travers du traitement mensuel et/ou annuel des anomalies potentielles ;\nUne prospective la plus fine possible pour parfaire la gestion budgétaire et les décisions liées à la mobilité.\n\nNous vous proposons de nous retrouver lors d’un webinaire le jeudi 28 mars à 10h afin d’appréhender la mise en place de cet observatoire au travers de notre logiciel Mobilae\, Observatoire VM. \nFormulaire d’inscription
URL:https://www.seldon-finance.com/formation/demo-mobilae-lobservatoire-du-versement-mobilite/
LOCATION:En visioconférence
CATEGORIES:Démo
ATTACH;FMTTYPE=image/png:https://www.seldon-finance.com/wp-content/uploads/2023/01/demo_96x96.png
END:VEVENT
END:VCALENDAR