BEGIN:VCALENDAR
VERSION:2.0
PRODID:-//Seldon Finance - ECPv6.9.1//NONSGML v1.0//EN
CALSCALE:GREGORIAN
METHOD:PUBLISH
X-ORIGINAL-URL:https://www.seldon-finance.com
X-WR-CALDESC:Évènements pour Seldon Finance
REFRESH-INTERVAL;VALUE=DURATION:PT1H
X-Robots-Tag:noindex
X-PUBLISHED-TTL:PT1H
BEGIN:VTIMEZONE
TZID:Europe/Paris
BEGIN:DAYLIGHT
TZOFFSETFROM:+0100
TZOFFSETTO:+0200
TZNAME:CEST
DTSTART:20240331T010000
END:DAYLIGHT
BEGIN:STANDARD
TZOFFSETFROM:+0200
TZOFFSETTO:+0100
TZNAME:CET
DTSTART:20241027T010000
END:STANDARD
END:VTIMEZONE
BEGIN:VEVENT
DTSTART;TZID=Europe/Paris:20240312T110000
DTEND;TZID=Europe/Paris:20240312T120000
DTSTAMP:20260425T023355
CREATED:20240227T165016Z
LAST-MODIFIED:20240304T153102Z
UID:4542-1710241200-1710244800@www.seldon-finance.com
SUMMARY:DÉMO | Fiscalis : La cartographie de notre observatoire fiscal fait peau neuve
DESCRIPTION:Les fonctionnalités de cartographie sont absolument essentielles pour les progiciels d’observatoire fiscal\, et nous avons pris soin d’améliorer chaque aspect pour offrir une expérience encore plus enrichissante à nos utilisateurs. \nMais\, qu’est-ce qui rend notre nouvelle cartographie si spéciale ? \n\nRestitutions communicantes de données fiscales : Nous avons intégré des fonctionnalités avancées de restitution de données fiscales pour permettre une analyse plus approfondie et une meilleure compréhension des tendances.\n\n\nFonctionnalité de recherche améliorée : Notre nouvelle cartographie propose une fonctionnalité de recherche intuitive qui vous permet de trouver rapidement les informations dont vous avez besoin\, vous faisant ainsi gagner un temps précieux.\n\n\nDimension stratégique : En plus des fonctionnalités techniques améliorées\, notre cartographie offre une vision stratégique. Elle constitue un véritable outil d’aide à la décision et de pilotage pluriannuel.\n\nDécouvrez la puissance de notre nouvelle cartographie et transformez la façon dont vous gérez vos données fiscales en vous inscrivant à la démonstration de notre nouvel outil le mardi 12 mars à 11h. \n  \nFormulaire d’inscription
URL:https://www.seldon-finance.com/formation/demo-fiscalis-la-cartographie-de-notre-observatoire-fiscal-fait-peau-neuve/
LOCATION:En visioconférence
CATEGORIES:Démo
END:VEVENT
END:VCALENDAR