BEGIN:VCALENDAR
VERSION:2.0
PRODID:-//Seldon Finance - ECPv6.9.1//NONSGML v1.0//EN
CALSCALE:GREGORIAN
METHOD:PUBLISH
X-WR-CALNAME:Seldon Finance
X-ORIGINAL-URL:https://www.seldon-finance.com
X-WR-CALDESC:Évènements pour Seldon Finance
REFRESH-INTERVAL;VALUE=DURATION:PT1H
X-Robots-Tag:noindex
X-PUBLISHED-TTL:PT1H
BEGIN:VTIMEZONE
TZID:Europe/Paris
BEGIN:DAYLIGHT
TZOFFSETFROM:+0100
TZOFFSETTO:+0200
TZNAME:CEST
DTSTART:20230326T010000
END:DAYLIGHT
BEGIN:STANDARD
TZOFFSETFROM:+0200
TZOFFSETTO:+0100
TZNAME:CET
DTSTART:20231029T010000
END:STANDARD
END:VTIMEZONE
BEGIN:VEVENT
DTSTART;TZID=Europe/Paris:20230525T090000
DTEND;TZID=Europe/Paris:20230525T123000
DTSTAMP:20260425T160435
CREATED:20230417T135023Z
LAST-MODIFIED:20240118T151235Z
UID:3770-1685005200-1685017800@www.seldon-finance.com
SUMMARY:PARIS | Comment s'inscrire dans une trajectoire de progrès ? Focus sur le Budget climat et la démarche PPI
DESCRIPTION:Face au changement climatique\, le rôle des collectivités locales sera déterminant. Ainsi\, depuis 2020\, bon nombre d’entre elles ont fait de la transition écologique l’une des priorités de la mandature et ont décidé de transformer l’action publique via la construction d’un budget vert. \nIl s’agit d’identifier\, selon une méthodologie rigoureuse\, les dépenses favorables et défavorables pour le climat pour ensuite établir\, au fil du mandat\, une trajectoire de progrès. \nUn second temps sera ensuite prévu pour échanger sur la démarche PPI et plus précisément sur la façon de concilier les objectifs politiques et les contraintes financières. \nDurant ce Rendez-vous financier\, notre expert vous présentera la méthode développée par l’Institut I4CE et apportera des réponses méthodologiques pour optimiser et enrichir votre démarche pluriannuelle. \nNos 2 solutions web dédiées au budget climat et au PPI permettront d’illustrer cette présentation. \n\n* Un déjeuner sera servi à 12h30. \nCette prestation est prévue pour l’ensemble des participants. \nInscription en ligne
URL:https://www.seldon-finance.com/formation/paris-comment-sinscrire-dans-une-trajectoire-de-progres-focus-sur-le-budget-climat-et-la-demarche-ppi/
LOCATION:Paris
CATEGORIES:Les rendez-vous financiers
ATTACH;FMTTYPE=image/png:https://www.seldon-finance.com/wp-content/uploads/2022/07/rdv-financiers_96x96.png
END:VEVENT
END:VCALENDAR