BEGIN:VCALENDAR
VERSION:2.0
PRODID:-//Seldon Finance - ECPv6.9.1//NONSGML v1.0//EN
CALSCALE:GREGORIAN
METHOD:PUBLISH
X-ORIGINAL-URL:https://www.seldon-finance.com
X-WR-CALDESC:Évènements pour Seldon Finance
REFRESH-INTERVAL;VALUE=DURATION:PT1H
X-Robots-Tag:noindex
X-PUBLISHED-TTL:PT1H
BEGIN:VTIMEZONE
TZID:Europe/Paris
BEGIN:DAYLIGHT
TZOFFSETFROM:+0100
TZOFFSETTO:+0200
TZNAME:CEST
DTSTART:20230326T010000
END:DAYLIGHT
BEGIN:STANDARD
TZOFFSETFROM:+0200
TZOFFSETTO:+0100
TZNAME:CET
DTSTART:20231029T010000
END:STANDARD
END:VTIMEZONE
BEGIN:VEVENT
DTSTART;TZID=Europe/Paris:20230329T090000
DTEND;TZID=Europe/Paris:20230329T140000
DTSTAMP:20260425T173332
CREATED:20230307T174328Z
LAST-MODIFIED:20230417T135307Z
UID:3711-1680080400-1680098400@www.seldon-finance.com
SUMMARY:SAINT-JEAN-DE-LUZ / Le financement des collectivités locales 2023\, quelle stratégie en contexte inflationniste ?
DESCRIPTION:Seldon Finance et l’Agence France Locale ont le plaisir de vous convier à une matinée d’information financière et d’échanges entre collectivités locales.\n \nL’objectif est de décrypter le marché de l’emprunt des collectivités qui s’est profondément transformé ces derniers mois et de définir la stratégie à adopter dans ce contexte inflationniste.\n\nCette conférence sera animée par Gilles SÉBÉ\, Président Seldon Finance et Yves MILLARDET\, Président du Directoire de l’Agence France Locale.\n\n\nDate : mercredi 29 mars 2023\nLieu : Grand Hôtel\, 43\, boulevard Thiers\, 64500 Saint-Jean-de-Luz\n* Horaire : 09h – 12h30 + déjeuner sur place prévu pour tous les participants
URL:https://www.seldon-finance.com/formation/le-financement-des-collectivites-locales-2023-quelle-strategie-en-contexte-inflationniste/
LOCATION:Saint-Jean-de-Luz
CATEGORIES:Les rendez-vous financiers
ATTACH;FMTTYPE=image/png:https://www.seldon-finance.com/wp-content/uploads/2022/07/rdv-financiers_96x96.png
END:VEVENT
END:VCALENDAR