BEGIN:VCALENDAR
VERSION:2.0
PRODID:-//Seldon Finance - ECPv6.9.1//NONSGML v1.0//EN
CALSCALE:GREGORIAN
METHOD:PUBLISH
X-ORIGINAL-URL:https://www.seldon-finance.com
X-WR-CALDESC:Évènements pour Seldon Finance
REFRESH-INTERVAL;VALUE=DURATION:PT1H
X-Robots-Tag:noindex
X-PUBLISHED-TTL:PT1H
BEGIN:VTIMEZONE
TZID:Europe/Paris
BEGIN:DAYLIGHT
TZOFFSETFROM:+0100
TZOFFSETTO:+0200
TZNAME:CEST
DTSTART:20260329T010000
END:DAYLIGHT
BEGIN:STANDARD
TZOFFSETFROM:+0200
TZOFFSETTO:+0100
TZNAME:CET
DTSTART:20261025T010000
END:STANDARD
END:VTIMEZONE
BEGIN:VEVENT
DTSTART;TZID=Europe/Paris:20260205T100000
DTEND;TZID=Europe/Paris:20260205T140000
DTSTAMP:20260423T153011
CREATED:20260116T131813Z
LAST-MODIFIED:20260116T134611Z
UID:5446-1770285600-1770300000@www.seldon-finance.com
SUMMARY:CLUB UTILISATEUR VISIO | Webprev Prospective
DESCRIPTION:Nous vous invitons à participer à notre prochain Club Utilisateur virtuel Webprev Prospective\, rendez-vous privilégié entre utilisateurs de notre logiciel de prospective financière. \nFORMAT DU CLUB : visioconférence de 2h organisée pour et avec les utilisateurs du logiciel Webprev Prospective. \nOBJECTIFS DU CLUB : l’essentiel du Club sera consacré aux échanges\, aux cas concrets et aux retours d’expérience entre les différents utilisateurs de Webprev Prospective. \nNous pourrons également répondre à vos questions spécifiques et explorer des fonctionnalités avancées de l’outil. \nInscription en ligne
URL:https://www.seldon-finance.com/formation/club-utilisateur-visio-webprev-prospective/
LOCATION:En visioconférence
CATEGORIES:Club Prospective
ATTACH;FMTTYPE=image/png:https://www.seldon-finance.com/wp-content/uploads/2025/01/club-prospective_200x200ok.png
END:VEVENT
BEGIN:VEVENT
DTSTART;TZID=Europe/Paris:20260217T110000
DTEND;TZID=Europe/Paris:20260217T120000
DTSTAMP:20260423T153011
CREATED:20260205T140022Z
LAST-MODIFIED:20260205T140039Z
UID:5493-1771326000-1771329600@www.seldon-finance.com
SUMMARY:WEBINAIRE | Loi de Finances 2026
DESCRIPTION:Participez à notre prochain webinaire consacré à l’adoption du Projet de Loi de Finances 2026. \n\nLe mardi 17 février 2026\nDe 11h à 12h\n\nFormulaire d’inscription
URL:https://www.seldon-finance.com/formation/plf-2026-decryptage-seldon-finance/
LOCATION:En visioconférence
CATEGORIES:Webinaire
ATTACH;FMTTYPE=image/png:https://www.seldon-finance.com/wp-content/uploads/2025/01/webinaire_200x200.png
END:VEVENT
END:VCALENDAR