BEGIN:VCALENDAR
VERSION:2.0
PRODID:-//Seldon Finance - ECPv6.9.1//NONSGML v1.0//EN
CALSCALE:GREGORIAN
METHOD:PUBLISH
X-ORIGINAL-URL:https://www.seldon-finance.com
X-WR-CALDESC:Évènements pour Seldon Finance
REFRESH-INTERVAL;VALUE=DURATION:PT1H
X-Robots-Tag:noindex
X-PUBLISHED-TTL:PT1H
BEGIN:VTIMEZONE
TZID:Europe/Paris
BEGIN:DAYLIGHT
TZOFFSETFROM:+0100
TZOFFSETTO:+0200
TZNAME:CEST
DTSTART:20250330T010000
END:DAYLIGHT
BEGIN:STANDARD
TZOFFSETFROM:+0200
TZOFFSETTO:+0100
TZNAME:CET
DTSTART:20251026T010000
END:STANDARD
END:VTIMEZONE
BEGIN:VEVENT
DTSTART;TZID=Europe/Paris:20251202T090000
DTEND;TZID=Europe/Paris:20251202T140000
DTSTAMP:20260423T183249
CREATED:20251002T101501Z
LAST-MODIFIED:20251002T101501Z
UID:5354-1764666000-1764684000@www.seldon-finance.com
SUMMARY:RDV Financiers | Lille | Décryptage PLF 2026
DESCRIPTION:Le Groupe Seldon vous propose une nouvelle édition des Rendez-Vous Financiers à Lille le MARDI 02 DÉCEMBRE 2025.  \nCette matinée d’étude sera consacrée à la préparation des budgets 2026 dans un contexte politique et institutionnel instable. \nInscription en ligne
URL:https://www.seldon-finance.com/formation/rdv-financiers-lille-decryptage-plf-2026/
LOCATION:Lille
CATEGORIES:Les rendez-vous financiers
ATTACH;FMTTYPE=image/png:https://www.seldon-finance.com/wp-content/uploads/2025/01/rdv-financier.png
END:VEVENT
BEGIN:VEVENT
DTSTART;TZID=Europe/Paris:20251204T090000
DTEND;TZID=Europe/Paris:20251204T140000
DTSTAMP:20260423T183249
CREATED:20251002T142647Z
LAST-MODIFIED:20251002T142723Z
UID:5359-1764838800-1764856800@www.seldon-finance.com
SUMMARY:RDV Financiers | Strasbourg | Décryptage PLF 2026
DESCRIPTION:Le Groupe Seldon vous propose une nouvelle édition des Rendez-Vous Financiers à Strasbourg le JEUDI 04 DÉCEMBRE 2025.  \nCette matinée d’étude sera consacrée à la préparation des budgets 2026 dans un contexte politique et institutionnel instable. \nInscription en ligne
URL:https://www.seldon-finance.com/formation/rdv-financiers-strasbourg-decryptage-plf-2026/
LOCATION:Strasbourg
CATEGORIES:Les rendez-vous financiers
ATTACH;FMTTYPE=image/png:https://www.seldon-finance.com/wp-content/uploads/2025/01/rdv-financier.png
END:VEVENT
BEGIN:VEVENT
DTSTART;TZID=Europe/Paris:20251209T110000
DTEND;TZID=Europe/Paris:20251209T120000
DTSTAMP:20260423T183249
CREATED:20251204T113744Z
LAST-MODIFIED:20251204T113744Z
UID:5406-1765278000-1765281600@www.seldon-finance.com
SUMMARY:Webinaire | Décryptage PLF 2026 et préparation des budgets (session 1)
DESCRIPTION:Nous vous invitons à participer au prochain webinaire consacré au décryptage du PLF 2026 et à la préparation des budgets. \n\nLe mardi 09 décembre 2025\nDe 11h à 12h\n\nInscription en ligne 
URL:https://www.seldon-finance.com/formation/webinaire-decryptage-plf-2026-et-preparation-des-budgets-session-1/
LOCATION:En visioconférence
CATEGORIES:Webinaire
ATTACH;FMTTYPE=image/png:https://www.seldon-finance.com/wp-content/uploads/2025/01/webinaire_200x200.png
END:VEVENT
BEGIN:VEVENT
DTSTART;TZID=Europe/Paris:20251211T110000
DTEND;TZID=Europe/Paris:20251211T120000
DTSTAMP:20260423T183249
CREATED:20251204T114214Z
LAST-MODIFIED:20251204T114214Z
UID:5408-1765450800-1765454400@www.seldon-finance.com
SUMMARY:Webinaire | Décryptage PLF 2026 et préparation des budgets (session 2)
DESCRIPTION:Nous vous invitons à participer au prochain webinaire consacré au décryptage du PLF 2026 et à la préparation des budgets. \n\nLe jeudi 11 décembre 2025\nDe 11h à 12h\n\nInscription en ligne 
URL:https://www.seldon-finance.com/formation/webinaire-decryptage-plf-2026-et-preparation-des-budgets-session-2/
LOCATION:En visioconférence
CATEGORIES:Webinaire
ATTACH;FMTTYPE=image/png:https://www.seldon-finance.com/wp-content/uploads/2025/01/webinaire_200x200.png
END:VEVENT
BEGIN:VEVENT
DTSTART;TZID=Europe/Paris:20251216T110000
DTEND;TZID=Europe/Paris:20251216T120000
DTSTAMP:20260423T183249
CREATED:20251127T113006Z
LAST-MODIFIED:20251127T113006Z
UID:5396-1765882800-1765886400@www.seldon-finance.com
SUMMARY:Webinaire | Fin d'exercice 2025 : fiabilisez vos ICNE et éditez vos annexes réglementaires
DESCRIPTION:Nous vous invitons à participer au prochain webinaire consacré à la fin d’exercice 2025\, en s’appuyant sur notre outil de gestion de la dette : WEBDETTE Emprunts. \n\nLe mardi 16 décembre 2025\nDe 11h à 12h\n\nInscription en ligne 
URL:https://www.seldon-finance.com/formation/webinaire-fin-dexercice-2025-fiabilisez-vos-icne-et-editez-vos-annexes-reglementaires/
LOCATION:En visioconférence
CATEGORIES:Webinaire
ATTACH;FMTTYPE=image/png:https://www.seldon-finance.com/wp-content/uploads/2025/01/webinaire_200x200.png
END:VEVENT
END:VCALENDAR