BEGIN:VCALENDAR
VERSION:2.0
PRODID:-//Seldon Finance - ECPv6.9.1//NONSGML v1.0//EN
CALSCALE:GREGORIAN
METHOD:PUBLISH
X-ORIGINAL-URL:https://www.seldon-finance.com
X-WR-CALDESC:Évènements pour Seldon Finance
REFRESH-INTERVAL;VALUE=DURATION:PT1H
X-Robots-Tag:noindex
X-PUBLISHED-TTL:PT1H
BEGIN:VTIMEZONE
TZID:Europe/Paris
BEGIN:DAYLIGHT
TZOFFSETFROM:+0100
TZOFFSETTO:+0200
TZNAME:CEST
DTSTART:20250330T010000
END:DAYLIGHT
BEGIN:STANDARD
TZOFFSETFROM:+0200
TZOFFSETTO:+0100
TZNAME:CET
DTSTART:20251026T010000
END:STANDARD
END:VTIMEZONE
BEGIN:VEVENT
DTSTART;TZID=Europe/Paris:20251002T110000
DTEND;TZID=Europe/Paris:20251002T120000
DTSTAMP:20260423T212250
CREATED:20250925T134048Z
LAST-MODIFIED:20250925T134143Z
UID:5334-1759402800-1759406400@www.seldon-finance.com
SUMMARY:DÉMO | FISCALIS\, outil de stratégie et performance fiscale
DESCRIPTION:Participez à la prochaine démo du logiciel FISCALIS\, outil de stratégie et performance fiscale. \n\nJeudi 02 octobre 2025\nDe 11h à 12h\n\nInscription en ligne 
URL:https://www.seldon-finance.com/formation/demo-fiscalis/
LOCATION:En visioconférence
CATEGORIES:Démo
ATTACH;FMTTYPE=image/png:https://www.seldon-finance.com/wp-content/uploads/2025/01/demo_200x200.png
END:VEVENT
BEGIN:VEVENT
DTSTART;TZID=Europe/Paris:20251009T110000
DTEND;TZID=Europe/Paris:20251009T120000
DTSTAMP:20260423T212250
CREATED:20250925T131655Z
LAST-MODIFIED:20250925T132830Z
UID:5330-1760007600-1760011200@www.seldon-finance.com
SUMMARY:WEBINAIRE | Réalisation du ROB & dépouillement des offres bancaires
DESCRIPTION:Nous vous invitons à participer au prochain webinaire consacré à la réalisation du ROB et au dépouillement des offres bancaires\, en s’appuyant sur notre outil de gestion de la dette : WEBDETTE Emprunts. \n\nLe jeudi 09 octobre 2025\nDe 11h à 12h\n\nInscription en ligne
URL:https://www.seldon-finance.com/formation/webinaire-realisation-du-rob-depouillement-des-offres-bancaires/
LOCATION:En visioconférence
CATEGORIES:Webinaire
ATTACH;FMTTYPE=image/png:https://www.seldon-finance.com/wp-content/uploads/2025/01/webinaire_200x200.png
END:VEVENT
BEGIN:VEVENT
DTSTART;TZID=Europe/Paris:20251014T110000
DTEND;TZID=Europe/Paris:20251014T120000
DTSTAMP:20260423T212250
CREATED:20250925T133522Z
LAST-MODIFIED:20250925T133522Z
UID:5332-1760439600-1760443200@www.seldon-finance.com
SUMMARY:WEBINAIRE | Réalisation du ROB et préparation budgétaire
DESCRIPTION:Nous vous invitons à participer au prochain webinaire consacré à la réalisation du ROB et à la préparation budgétaire\, en s’appuyant sur notre outil de gestion de la dette : WEBDETTE Emprunts. \n\nLe mardi 14 octobre 2025\nDe 11h à 12h\n\nInscription en ligne
URL:https://www.seldon-finance.com/formation/webinaire-realisation-du-rob-et-preparation-budgetaire/
LOCATION:En visioconférence
CATEGORIES:Webinaire
ATTACH;FMTTYPE=image/png:https://www.seldon-finance.com/wp-content/uploads/2025/01/webinaire_200x200.png
END:VEVENT
BEGIN:VEVENT
DTSTART;TZID=Europe/Paris:20251016T110000
DTEND;TZID=Europe/Paris:20251016T120000
DTSTAMP:20260423T212250
CREATED:20250926T093708Z
LAST-MODIFIED:20250926T093708Z
UID:5348-1760612400-1760616000@www.seldon-finance.com
SUMMARY:DÉMO | Wininvest Patrimoine ; de l’inventaire physique à la comptabilité
DESCRIPTION:Participez à la prochaine démo du logiciel WININVEST Patrimoine. \n\nJeudi 16 octobre 2025\nDe 11h à 12h\n\nInscription en ligne 
URL:https://www.seldon-finance.com/formation/demo-wininvest-patrimoine-de-linventaire-physique-a-la-comptabilite/
LOCATION:En visioconférence
CATEGORIES:Démo
ATTACH;FMTTYPE=image/png:https://www.seldon-finance.com/wp-content/uploads/2025/01/demo_200x200.png
END:VEVENT
BEGIN:VEVENT
DTSTART;TZID=Europe/Paris:20251030T090000
DTEND;TZID=Europe/Paris:20251030T140000
DTSTAMP:20260423T212250
CREATED:20250904T082252Z
LAST-MODIFIED:20250926T084203Z
UID:5283-1761814800-1761832800@www.seldon-finance.com
SUMMARY:RDV Financiers | La Réunion | Décryptage PLF 2026
DESCRIPTION:Le Groupe Seldon vous propose une nouvelle édition des Rendez-Vous Financiers à La Réunion le JEUDI 30 OCTOBRE 2025.  \nLa matinée sera consacrée à la préparation des budgets 2026 dans un contexte politique et institutionnel instable. \nL’après-midi\, 2 ateliers seront organisés\, pour une découverte de notre logiciel de prévisions RH – NORIA RH – et un éclairage sur le financement des services déchets. \n  \nInscription en ligne
URL:https://www.seldon-finance.com/formation/rdv-financiers-la-reunion/
LOCATION:Saint-Gilles-les-Bains
CATEGORIES:Les rendez-vous financiers
ATTACH;FMTTYPE=image/png:https://www.seldon-finance.com/wp-content/uploads/2025/01/rdv-financier.png
END:VEVENT
END:VCALENDAR