BEGIN:VCALENDAR
VERSION:2.0
PRODID:-//Seldon Finance - ECPv6.9.1//NONSGML v1.0//EN
CALSCALE:GREGORIAN
METHOD:PUBLISH
X-WR-CALNAME:Seldon Finance
X-ORIGINAL-URL:https://www.seldon-finance.com
X-WR-CALDESC:Évènements pour Seldon Finance
REFRESH-INTERVAL;VALUE=DURATION:PT1H
X-Robots-Tag:noindex
X-PUBLISHED-TTL:PT1H
BEGIN:VTIMEZONE
TZID:Europe/Paris
BEGIN:DAYLIGHT
TZOFFSETFROM:+0100
TZOFFSETTO:+0200
TZNAME:CEST
DTSTART:20250330T010000
END:DAYLIGHT
BEGIN:STANDARD
TZOFFSETFROM:+0200
TZOFFSETTO:+0100
TZNAME:CET
DTSTART:20251026T010000
END:STANDARD
END:VTIMEZONE
BEGIN:VEVENT
DTSTART;TZID=Europe/Paris:20250612T110000
DTEND;TZID=Europe/Paris:20250612T120000
DTSTAMP:20260424T030853
CREATED:20250611T094422Z
LAST-MODIFIED:20250611T094422Z
UID:5222-1749726000-1749729600@www.seldon-finance.com
SUMMARY:DÉMO | MOBILAE ; Le Versement Mobilité : un levier stratégique pour les Autorités Organisatrices de la Mobilité
DESCRIPTION:Pilier du financement des services de mobilité\, le Versement Mobilité mérite une attention particulière. Pour en tirer pleinement parti\, il est indispensable de s’appuyer sur un observatoire dédié\, reposant sur des outils adaptés et une méthodologie rigoureuse. \nObjectifs :\n– Assurer un suivi financier précis pour optimiser la trésorerie\n– Mettre en place un contrôle mensuel des écarts et régularisations\n– Détecter et corriger les anomalies\, mois par mois ou en fin d’exercice\n– Affiner la prospective budgétaire et soutenir les décisions stratégiques \nParticipez à notre prochaine démo pour découvrir MOBILAE\, notre solution dédiée à l’analyse et à l’optimisation du Versement Mobilité ! \nFormulaire d’inscription
URL:https://www.seldon-finance.com/formation/demo-mobilae-le-versement-mobilite-un-levier-strategique-pour-les-autorites-organisatrices-de-la-mobilite/
LOCATION:En visioconférence
CATEGORIES:Démo
ATTACH;FMTTYPE=image/png:https://www.seldon-finance.com/wp-content/uploads/2025/01/demo_200x200.png
END:VEVENT
BEGIN:VEVENT
DTSTART;TZID=Europe/Paris:20250619T090000
DTEND;TZID=Europe/Paris:20250619T160000
DTSTAMP:20260424T030853
CREATED:20250410T082751Z
LAST-MODIFIED:20250410T123143Z
UID:5146-1750323600-1750348800@www.seldon-finance.com
SUMMARY:RDV Financier Bordeaux | Les finances locales dans la tourmente
DESCRIPTION:Le Groupe Seldon vous propose une nouvelle édition des Rendez-Vous Financiers à Bordeaux le jeudi 19 juin prochain pour une analyse des difficultés financières de l’État et les répercussions sur les finances locales. \nInscription en ligne
URL:https://www.seldon-finance.com/formation/rdv-financier-bordeaux/
LOCATION:Bordeaux
CATEGORIES:Les rendez-vous financiers
ATTACH;FMTTYPE=image/png:https://www.seldon-finance.com/wp-content/uploads/2025/01/rdv-financier.png
END:VEVENT
BEGIN:VEVENT
DTSTART;TZID=Europe/Paris:20250624T090000
DTEND;TZID=Europe/Paris:20250624T160000
DTSTAMP:20260424T030853
CREATED:20250410T122739Z
LAST-MODIFIED:20250410T130956Z
UID:5167-1750755600-1750780800@www.seldon-finance.com
SUMMARY:RDV Financier Paris | Les finances locales dans la tourmente
DESCRIPTION:Le Groupe Seldon vous propose une nouvelle édition des Rendez-Vous Financiers à Paris le MARDI 24 JUIN prochain pour analyser ensemble les difficultés financières de l’État et leurs répercussions sur les finances locales. \nInscription en ligne
URL:https://www.seldon-finance.com/formation/rdv-financier-paris/
LOCATION:Paris
CATEGORIES:Les rendez-vous financiers
ATTACH;FMTTYPE=image/png:https://www.seldon-finance.com/wp-content/uploads/2025/01/rdv-financier.png
END:VEVENT
BEGIN:VEVENT
DTSTART;TZID=Europe/Paris:20250626T090000
DTEND;TZID=Europe/Paris:20250626T160000
DTSTAMP:20260424T030853
CREATED:20250410T123040Z
LAST-MODIFIED:20250410T131019Z
UID:5170-1750928400-1750953600@www.seldon-finance.com
SUMMARY:RDV Financier Lyon | Les finances locales dans la tourmente
DESCRIPTION:Le Groupe Seldon vous propose une nouvelle édition des Rendez-Vous Financiers à Lyon le JEUDI 26 JUIN prochain pour analyser ensemble les difficultés financières de l’État et leurs répercussions sur les finances locales. \nInscription en ligne
URL:https://www.seldon-finance.com/formation/rdv-financier-lyon-les-finances-locales-dans-la-tourmente/
LOCATION:Lyon
CATEGORIES:Les rendez-vous financiers
ATTACH;FMTTYPE=image/png:https://www.seldon-finance.com/wp-content/uploads/2025/01/rdv-financier.png
END:VEVENT
END:VCALENDAR