BEGIN:VCALENDAR
VERSION:2.0
PRODID:-//Seldon Finance - ECPv6.9.1//NONSGML v1.0//EN
CALSCALE:GREGORIAN
METHOD:PUBLISH
X-ORIGINAL-URL:https://www.seldon-finance.com
X-WR-CALDESC:Évènements pour Seldon Finance
REFRESH-INTERVAL;VALUE=DURATION:PT1H
X-Robots-Tag:noindex
X-PUBLISHED-TTL:PT1H
BEGIN:VTIMEZONE
TZID:Europe/Paris
BEGIN:DAYLIGHT
TZOFFSETFROM:+0100
TZOFFSETTO:+0200
TZNAME:CEST
DTSTART:20250330T010000
END:DAYLIGHT
BEGIN:STANDARD
TZOFFSETFROM:+0200
TZOFFSETTO:+0100
TZNAME:CET
DTSTART:20251026T010000
END:STANDARD
END:VTIMEZONE
BEGIN:VEVENT
DTSTART;TZID=Europe/Paris:20250306T110000
DTEND;TZID=Europe/Paris:20250306T120000
DTSTAMP:20260424T075627
CREATED:20250130T154742Z
LAST-MODIFIED:20250130T154852Z
UID:5029-1741258800-1741262400@www.seldon-finance.com
SUMMARY:DÉMO | FISCALIS 3 : outil de stratégie et de performance fiscale
DESCRIPTION:Participez à notre prochaine démonstration du logiciel FISCALIS 3\, outil de stratégie et de performance fiscale \nFormulaire d’inscription
URL:https://www.seldon-finance.com/formation/demo-fiscalis-3/
LOCATION:En visioconférence
CATEGORIES:Démo
ATTACH;FMTTYPE=image/png:https://www.seldon-finance.com/wp-content/uploads/2025/01/demo_200x200.png
END:VEVENT
BEGIN:VEVENT
DTSTART;TZID=Europe/Paris:20250318T110000
DTEND;TZID=Europe/Paris:20250318T120000
DTSTAMP:20260424T075627
CREATED:20250213T154815Z
LAST-MODIFIED:20250213T155530Z
UID:5045-1742295600-1742299200@www.seldon-finance.com
SUMMARY:WEBINAIRE | La CCID : l'instance majeure pour promouvoir l'équité fiscale et accroître vos recettes
DESCRIPTION:Participez à notre prochain webinaire dédié à la Commission Communale des Impôts Directs ! \nFormulaire d’inscription
URL:https://www.seldon-finance.com/formation/webinaire-la-ccid-linstance-majeure-pour-promouvoir-lequite-fiscale-et-accroitre-vos-recettes/
LOCATION:En visioconférence
CATEGORIES:Webinaire
ATTACH;FMTTYPE=image/png:https://www.seldon-finance.com/wp-content/uploads/2025/01/webinaire_200x200.png
END:VEVENT
END:VCALENDAR