BEGIN:VCALENDAR
VERSION:2.0
PRODID:-//Seldon Finance - ECPv6.9.1//NONSGML v1.0//EN
CALSCALE:GREGORIAN
METHOD:PUBLISH
X-ORIGINAL-URL:https://www.seldon-finance.com
X-WR-CALDESC:Évènements pour Seldon Finance
REFRESH-INTERVAL;VALUE=DURATION:PT1H
X-Robots-Tag:noindex
X-PUBLISHED-TTL:PT1H
BEGIN:VTIMEZONE
TZID:Europe/Paris
BEGIN:DAYLIGHT
TZOFFSETFROM:+0100
TZOFFSETTO:+0200
TZNAME:CEST
DTSTART:20240331T010000
END:DAYLIGHT
BEGIN:STANDARD
TZOFFSETFROM:+0200
TZOFFSETTO:+0100
TZNAME:CET
DTSTART:20241027T010000
END:STANDARD
END:VTIMEZONE
BEGIN:VEVENT
DTSTART;TZID=Europe/Paris:20241105T110000
DTEND;TZID=Europe/Paris:20241105T120000
DTSTAMP:20260424T135011
CREATED:20241010T125744Z
LAST-MODIFIED:20241010T130928Z
UID:4906-1730804400-1730808000@www.seldon-finance.com
SUMMARY:WEBINAIRE | Dette et prospective financière
DESCRIPTION:Nous vous proposons de participer à notre prochain webinaire consacré à la gestion de la dette et la prospective financière. \nFormulaire d’inscription
URL:https://www.seldon-finance.com/formation/webinaire-gestion-de-la-dette-et-prospective-financiere/
LOCATION:En visioconférence
CATEGORIES:Webinaire
ATTACH;FMTTYPE=image/png:https://www.seldon-finance.com/wp-content/uploads/2022/07/webinaire_96x96.png
END:VEVENT
BEGIN:VEVENT
DTSTART;TZID=Europe/Paris:20241119T090000
DTEND;TZID=Europe/Paris:20241119T133000
DTSTAMP:20260424T135011
CREATED:20241004T092326Z
LAST-MODIFIED:20241004T092827Z
UID:4892-1732006800-1732023000@www.seldon-finance.com
SUMMARY:BAYONNE | Décryptage PLF 2025
DESCRIPTION:Le Groupe Seldon vous propose une nouvelle édition des Rendez-Vous Financiers à Bayonne le mardi 19 novembre prochain pour un décryptage du Projet de Loi de Finances 2025.   \nInscription en ligne
URL:https://www.seldon-finance.com/formation/bayonne-decryptage-plf-2025/
LOCATION:Bayonne
CATEGORIES:Les rendez-vous financiers
ATTACH;FMTTYPE=image/png:https://www.seldon-finance.com/wp-content/uploads/2022/07/rdv-financiers_96x96.png
END:VEVENT
BEGIN:VEVENT
DTSTART;TZID=Europe/Paris:20241128T110000
DTEND;TZID=Europe/Paris:20241128T120000
DTSTAMP:20260424T135011
CREATED:20241121T154105Z
LAST-MODIFIED:20241121T154131Z
UID:4923-1732791600-1732795200@www.seldon-finance.com
SUMMARY:WEBINAIRE | Décryptage PLF 2025
DESCRIPTION:Nous vous proposons de participer à notre prochain webinaire consacré au décryptage du Projet de Loi de Finances 2025. \nFormulaire d’inscription
URL:https://www.seldon-finance.com/formation/webinaire-plf-2025/
LOCATION:En visioconférence
CATEGORIES:Webinaire
ATTACH;FMTTYPE=image/png:https://www.seldon-finance.com/wp-content/uploads/2022/07/webinaire_96x96.png
END:VEVENT
END:VCALENDAR