BEGIN:VCALENDAR
VERSION:2.0
PRODID:-//Seldon Finance - ECPv6.9.1//NONSGML v1.0//EN
CALSCALE:GREGORIAN
METHOD:PUBLISH
X-ORIGINAL-URL:https://www.seldon-finance.com
X-WR-CALDESC:Évènements pour Seldon Finance
REFRESH-INTERVAL;VALUE=DURATION:PT1H
X-Robots-Tag:noindex
X-PUBLISHED-TTL:PT1H
BEGIN:VTIMEZONE
TZID:Europe/Paris
BEGIN:DAYLIGHT
TZOFFSETFROM:+0100
TZOFFSETTO:+0200
TZNAME:CEST
DTSTART:20240331T010000
END:DAYLIGHT
BEGIN:STANDARD
TZOFFSETFROM:+0200
TZOFFSETTO:+0100
TZNAME:CET
DTSTART:20241027T010000
END:STANDARD
END:VTIMEZONE
BEGIN:VEVENT
DTSTART;TZID=Europe/Paris:20240516T110000
DTEND;TZID=Europe/Paris:20240516T120000
DTSTAMP:20260424T223212
CREATED:20240411T131753Z
LAST-MODIFIED:20240411T135203Z
UID:4614-1715857200-1715860800@www.seldon-finance.com
SUMMARY:WEBINAIRE | Financements court-terme "revolving" & remboursements temporaires et provisoires
DESCRIPTION:Nous vous proposons de participer à notre prochain webinaire consacré à l’optimisation de la gestion de vos financements court-terme “revolving” et aux remboursements temporaires et provisoires. \nFormulaire d’inscription
URL:https://www.seldon-finance.com/formation/webinaire-financements-court-terme-revolving-remboursements-temporaires-et-provisoires/
LOCATION:En visioconférence
CATEGORIES:Webinaire
ATTACH;FMTTYPE=image/png:https://www.seldon-finance.com/wp-content/uploads/2022/07/webinaire_96x96.png
END:VEVENT
BEGIN:VEVENT
DTSTART;TZID=Europe/Paris:20240521T110000
DTEND;TZID=Europe/Paris:20240521T113000
DTSTAMP:20260424T223212
CREATED:20240419T143113Z
LAST-MODIFIED:20240423T083434Z
UID:4633-1716289200-1716291000@www.seldon-finance.com
SUMMARY:DÉMO | Nouveau menu WEBDETTE Emprunts | Session n°1
DESCRIPTION:Notre logiciel Webdette Emprunts évolue pour vous permettre une meilleure navigation et prise en main\, plus intuitive et ergonomique\, avec la mise en place d’un nouveau menu début juin. \nDécouvrez le nouveau menu de notre logiciel de gestion de la dette : \nFormulaire d’inscription
URL:https://www.seldon-finance.com/formation/demo-nouveau-menu-webdette-emprunts/
LOCATION:En visioconférence
CATEGORIES:Démo
ATTACH;FMTTYPE=image/png:https://www.seldon-finance.com/wp-content/uploads/2023/01/demo_96x96.png
END:VEVENT
BEGIN:VEVENT
DTSTART;TZID=Europe/Paris:20240528T110000
DTEND;TZID=Europe/Paris:20240528T120000
DTSTAMP:20260424T223212
CREATED:20240412T092959Z
LAST-MODIFIED:20240412T093452Z
UID:4624-1716894000-1716897600@www.seldon-finance.com
SUMMARY:DÉMO | Nouveautés WININVEST Patrimoine & roadmap 2024
DESCRIPTION:Seldon Finance accompagne les collectivités dans la gestion comptable et physique de leurs immobilisations depuis près de 20 ans. \nDepuis les années 1980\, le patrimoine des collectivités locales s’est fortement développé et diversifié. Sous l’effet des lois de décentralisation qui se sont traduites par des transferts massifs de biens et de compétences de l’État vers le secteur local\, l’actif des collectivités est aujourd’hui valorisé à plus de 1 700 milliards d’euros. \nCe patrimoine\, souvent mal apprécié\, constitue un enjeu fort et demande la mise en place d’une véritable méthode pour en optimiser l’usage et maîtriser les coûts. D’autant que la fiabilité de l’inventaire est placée au cœur des exigences des Chambres Régionales des Comptes exprimées lors du passage à l’instruction M57 et à la perspective d’une certification généralisée des comptes publics. \nNotre logiciel WININVEST Patrimoine évolue régulièrement\, en suivant évidemment les obligations réglementaires mais également les besoins de chacun de nos clients. \nNous vous proposons une démonstration en ligne le mardi 28 mai 2024\, de 11h à 12h afin de vous présenter les dernières nouveautés de WININVEST Patrimoine. \nCe sera également l’occasion pour vous de participer à la réflexion sur la roadmap 2024\, et des années à venir. \n  \nFormulaire d’inscription
URL:https://www.seldon-finance.com/formation/demo-nouveautes-wininvest-patrimoine-roadmap-2024/
LOCATION:En visioconférence
CATEGORIES:Démo
ATTACH;FMTTYPE=image/png:https://www.seldon-finance.com/wp-content/uploads/2023/01/demo_96x96.png
END:VEVENT
BEGIN:VEVENT
DTSTART;TZID=Europe/Paris:20240530T110000
DTEND;TZID=Europe/Paris:20240530T113000
DTSTAMP:20260424T223212
CREATED:20240419T143902Z
LAST-MODIFIED:20240419T144013Z
UID:4642-1717066800-1717068600@www.seldon-finance.com
SUMMARY:DÉMO | Nouveau menu WEBDETTE Emprunts | Session n°2
DESCRIPTION:Notre logiciel Webdette Emprunts évolue pour vous permettre une meilleure navigation et prise en main\, plus intuitive et ergonomique\, avec la mise en place d’un nouveau menu début juin. \nDécouvrez le nouveau menu de notre logiciel de gestion de la dette : \nFormulaire d’inscription
URL:https://www.seldon-finance.com/formation/demo-nouveau-menu-webdette-emprunts-session-n2/
LOCATION:En visioconférence
CATEGORIES:Démo
ATTACH;FMTTYPE=image/png:https://www.seldon-finance.com/wp-content/uploads/2023/01/demo_96x96.png
END:VEVENT
END:VCALENDAR