BEGIN:VCALENDAR
VERSION:2.0
PRODID:-//Seldon Finance - ECPv6.9.1//NONSGML v1.0//EN
CALSCALE:GREGORIAN
METHOD:PUBLISH
X-ORIGINAL-URL:https://www.seldon-finance.com
X-WR-CALDESC:Évènements pour Seldon Finance
REFRESH-INTERVAL;VALUE=DURATION:PT1H
X-Robots-Tag:noindex
X-PUBLISHED-TTL:PT1H
BEGIN:VTIMEZONE
TZID:Europe/Paris
BEGIN:DAYLIGHT
TZOFFSETFROM:+0100
TZOFFSETTO:+0200
TZNAME:CEST
DTSTART:20230326T010000
END:DAYLIGHT
BEGIN:STANDARD
TZOFFSETFROM:+0200
TZOFFSETTO:+0100
TZNAME:CET
DTSTART:20231029T010000
END:STANDARD
END:VTIMEZONE
BEGIN:VEVENT
DTSTART;TZID=Europe/Paris:20230601T090000
DTEND;TZID=Europe/Paris:20230601T123000
DTSTAMP:20260425T131137
CREATED:20230417T135733Z
LAST-MODIFIED:20240118T150836Z
UID:3776-1685610000-1685622600@www.seldon-finance.com
SUMMARY:STRASBOURG | La stratégie fiscale des collectivités\, gouffre ou tremplin ?
DESCRIPTION:Face au changement climatique\, le rôle des collectivités locales sera déterminant. Ainsi\, depuis 2020\, bon nombre d’entre elles ont fait de la transition écologique l’une des priorités de la mandature et ont décidé de transformer l’action publique via la construction d’un budget vert. \nIl s’agit d’identifier\, selon une méthodologie rigoureuse\, les dépenses favorables et défavorables pour le climat pour ensuite établir\, au fil du mandat\, une trajectoire de progrès. \nUn second temps sera ensuite prévu pour échanger sur la démarche PPI et plus précisément sur la façon de concilier les objectifs politiques et les contraintes financières. \nDurant ce Rendez-vous financier\, notre expert vous présentera la méthode développée par l’Institut I4CE et apportera des réponses méthodologiques pour optimiser et enrichir votre démarche pluriannuelle. \nNos 2 solutions web dédiées au budget climat et au PPI permettront d’illustrer cette présentation. \n\n* Un déjeuner sera servi à 12h30. \nCette prestation est prévue pour l’ensemble des participants. \nInscription en ligne \n 
URL:https://www.seldon-finance.com/formation/strasbourg-la-strategie-fiscale-des-collectivites-gouffre-ou-tremplin/
LOCATION:Strasbourg
CATEGORIES:Les rendez-vous financiers
ATTACH;FMTTYPE=image/png:https://www.seldon-finance.com/wp-content/uploads/2022/07/rdv-financiers_96x96.png
END:VEVENT
BEGIN:VEVENT
DTSTART;TZID=Europe/Paris:20230608T090000
DTEND;TZID=Europe/Paris:20230608T140000
DTSTAMP:20260425T131137
CREATED:20230411T123625Z
LAST-MODIFIED:20240118T150638Z
UID:3751-1686214800-1686232800@www.seldon-finance.com
SUMMARY:SAINT-RAPHAËL | Inflation et équilibre budgétaire. Focus sur la gestion de la dette et la maîtrise des dépenses de personnel
DESCRIPTION:Le Groupe Seldon poursuit sa dynamique d’évènements compacts (09h-12h30)\, proches de vous et des problématiques de vos territoires. \nLe jeudi 08 juin prochain\, Saint-Raphaël accueille un Rendez-Vous Financier consacré à la gestion de la dette et au pilotage de la masse salariale.  \nPour les budgets locaux qui subissent une explosion des coûts liés à l’inflation\, l’équilibre budgétaire est particulièrement difficile à atteindre. \nCôté dette\, évaluer ses contrats et optimiser son encours de dette\, rechercher des financements adaptés et projeter sa dette dans le temps sont redevenues des tâches centrales pour les gestionnaires financiers après une décennie de politique monétaire accommodante. \nFace à ces contraintes financières qui semblent s’inscrire dans la durée\, les directions finances (en lien avec les RH) doivent aussi maîtriser leurs charges de personnel en dessinant des projections financières pluriannuelles de la masse salariale. \n* Pause café/viennoiseries servie en milieu de matinée + déjeuner servi à 12h30. Ces prestations sont prévues pour l’ensemble des participants.
URL:https://www.seldon-finance.com/formation/gestion-de-la-dette-en-contexte-inflationniste-quelle-strategie-de-financement-pour-les-collectivites/
LOCATION:Saint-Raphaël
CATEGORIES:Les rendez-vous financiers
ATTACH;FMTTYPE=image/png:https://www.seldon-finance.com/wp-content/uploads/2022/07/rdv-financiers_96x96.png
END:VEVENT
BEGIN:VEVENT
DTSTART;TZID=Europe/Paris:20230629T100000
DTEND;TZID=Europe/Paris:20230629T160000
DTSTAMP:20260425T131137
CREATED:20230412T102508Z
LAST-MODIFIED:20240118T150422Z
UID:3510-1688032800-1688054400@www.seldon-finance.com
SUMMARY:PARIS | Club Dette 2023\, édition Régions et Départements
DESCRIPTION:Club Dette 2023 – Finances Locales (29.06.2023 – 10h00/16h00) Edition Départements et Régions\n\nProgramme de la journée d’étude
URL:https://www.seldon-finance.com/formation/club-dette-2023-edition-departements-et-regions/
LOCATION:Paris
CATEGORIES:Club Dette - Prospective
ATTACH;FMTTYPE=image/png:https://www.seldon-finance.com/wp-content/uploads/2022/07/club-dette_96x96.png
END:VEVENT
END:VCALENDAR