BEGIN:VCALENDAR
VERSION:2.0
PRODID:-//Seldon Finance - ECPv6.9.1//NONSGML v1.0//EN
CALSCALE:GREGORIAN
METHOD:PUBLISH
X-WR-CALNAME:Seldon Finance
X-ORIGINAL-URL:https://www.seldon-finance.com
X-WR-CALDESC:Évènements pour Seldon Finance
REFRESH-INTERVAL;VALUE=DURATION:PT1H
X-Robots-Tag:noindex
X-PUBLISHED-TTL:PT1H
BEGIN:VTIMEZONE
TZID:Europe/Paris
BEGIN:DAYLIGHT
TZOFFSETFROM:+0100
TZOFFSETTO:+0200
TZNAME:CEST
DTSTART:20220327T010000
END:DAYLIGHT
BEGIN:STANDARD
TZOFFSETFROM:+0200
TZOFFSETTO:+0100
TZNAME:CET
DTSTART:20221030T010000
END:STANDARD
END:VTIMEZONE
BEGIN:VEVENT
DTSTART;TZID=Europe/Paris:20221006T090000
DTEND;TZID=Europe/Paris:20221006T160000
DTSTAMP:20260425T235047
CREATED:20220906T140633Z
LAST-MODIFIED:20220906T140647Z
UID:3207-1665046800-1665072000@www.seldon-finance.com
SUMMARY:PARIS / Club Seldon 2022 : financement des collectivités\, notation\, bail réel et solidaire\, nouveautés
DESCRIPTION:Le Groupe Seldon est heureux de vous convier à sa journée annuelle d’information financière dédiée aux acteurs des finances locales. Rendez-vous à Paris le jeudi 06 octobre 2022 de 09:00 à 16:00. Interviendront à cette occasion l’Agence France Locale\, l’agence Fitch Ratings\, le cabinet Fidal et les experts du Groupe Seldon.\nLes ateliers seront également retransmis en direct en ligne.\nTélécharger le programme du Club Seldon 2022\n09.00. \nAccueil des participants et ouverture du Club Seldon 2022\n\n09.45.\n\nLe financement des collectivités locales dans un contexte économique et financier sous tension ; point de conjoncture et perspectives\nanimé par Romain Netter\, Directeur financement moyen et long-terme\, et Philippe Rogier\, Directeur des adhésions et du crédit\, tous deux à l’Agence France Locale\n\n\n11.15.\nComprendre la notation financière pour maintenir une qualité de crédit ; dédiabolisation\, méthode et opportunités\nanimé par Pierre Charpentier\, Directeur associé et Responsable de l’équipe française du département Finances Publiques Internationales à l’agence Fitch Ratings.\n\n\n14.00.\n\nLogement social : l’organisme de foncier solidaire\nanimé par Bruno Wertenschlag\, Avocat d’affaires\, Directeur associé au Cabinet Fidal\n\n\n\n15.15.\n\nPrésentation des nouveautés logicielles du Groupe Seldon ; prévisions financières RH\, nouvel observatoire fiscal\nanimé par Gilles Sébé\, Président du Groupe Seldon\n\n\n\n16:00.\n\nClôture du Club Seldon 2022
URL:https://www.seldon-finance.com/formation/paris-club-seldon-2022-financement-des-collectivites-notation-bail-reel-et-solidaire-nouveautes/
LOCATION:Paris
CATEGORIES:Club Seldon
ATTACH;FMTTYPE=image/png:https://www.seldon-finance.com/wp-content/uploads/2022/07/club-seldon_96x96.png
END:VEVENT
BEGIN:VEVENT
DTSTART;TZID=Europe/Paris:20221018T090000
DTEND;TZID=Europe/Paris:20221018T123000
DTSTAMP:20260425T235047
CREATED:20220915T142544Z
LAST-MODIFIED:20220915T150630Z
UID:3298-1666083600-1666096200@www.seldon-finance.com
SUMMARY:LILLE / Décryptage PLF 2023
DESCRIPTION:La ministre déléguée chargée des Collectivités Territoriales l’assure ; “nous travaillons à ce que le budget 2023 soit proche des attentes du terrain“. \nDans un entretien donné aux Echos début septembre\, Caroline Cayeux mesure l’enjeu de ce Projet de Loi de Finances 2023 qui doit à la fois soutenir les collectivités en contexte inflationniste\, tout en rappelant la nécessité de maîtriser leurs dépenses de fonctionnement. \nBercy tablerait sur une baisse des dépenses de -0.3%/an sur la période 2023 – 2027. Malgré une inflation record et la hausse spectaculaire des prix de l’énergie\, l’enveloppe globale de la DGF devrait rester stable\, au grand dam des associations d’élus qui réclamaient une indexation sur l’inflation pour maintenir leur pouvoir d’achat. \nSur le plan fiscal\, la suppression de la CVAE a été confirmée par Elisabeth Borne devant le Medef le 29 août dernier. L’abandon de dernier impôt économique local devrait ébranler la capacité d’action des collectivités locales. La compensation intégrale des 8 milliards d’euros par un transfert d’une fraction de TVA est plausible\, mais les mécanismes de répartition sont encore largement discutés par les associations d’élus locaux. \nComme chaque année\, le Groupe Seldon vous propose une analyse approfondie et documentée des différentes dispositions du PLF 2023 intéressant les collectivités locales afin de communiquer toutes les clés nécessaires à vos décisions de demain. \nPremier décryptage prévu le 18 octobre à Lille.
URL:https://www.seldon-finance.com/formation/lille-plf-2023/
LOCATION:Lille
CATEGORIES:Les rendez-vous financiers
ATTACH;FMTTYPE=image/png:https://www.seldon-finance.com/wp-content/uploads/2022/07/rdv-financiers_96x96.png
END:VEVENT
BEGIN:VEVENT
DTSTART;TZID=Europe/Paris:20221020T100000
DTEND;TZID=Europe/Paris:20221020T130000
DTSTAMP:20260425T235047
CREATED:20220922T152248Z
LAST-MODIFIED:20220922T152347Z
UID:3368-1666260000-1666270800@www.seldon-finance.com
SUMMARY:MONTPELLIER / Décryptage PLF 2023
DESCRIPTION:La ministre déléguée chargée des Collectivités Territoriales l’assure ; “nous travaillons à ce que le budget 2023 soit proche des attentes du terrain“. \nDans un entretien donné aux Echos début septembre\, Caroline Cayeux mesure l’enjeu de ce Projet de Loi de Finances 2023 qui doit à la fois soutenir les collectivités en contexte inflationniste\, tout en rappelant la nécessité de maîtriser leurs dépenses de fonctionnement. Bercy tablerait sur une baisse des dépenses de -0.3% par an sur la période 2023-2027\, sans remise en place des controversés contrats de Cahors. \nMalgré une inflation record et la hausse spectaculaire des prix de l’énergie\, l’enveloppe globale de la DGF devrait rester stable\, au grand dam des associations d’élus qui réclamaient une indexation sur l’inflation pour maintenir leur pouvoir d’achat. \nSur le plan fiscal\, la suppression de la CVAE a été confirmée par Elisabeth Borne devant le Medef le 29 août dernier. L’abandon du dernier impôt économique local devrait ébranler la capacité d’action des collectivités locales. La compensation intégrale des 8 milliards d’euros par un transfert d’une fraction de TVA est plausible\, mais les mécanismes de répartition sont encore largement discutés par les associations d’élus locaux. \nComme chaque année\, le Groupe Seldon vous propose une analyse approfondie et documentée des différentes dispositions du PLF 2023 intéressant les collectivités locales afin de communiquer toutes les clés nécessaires à vos décisions de demain. \nCet événement aura lieu dans les nouveaux locaux de Finindev\, dont l’inauguration officielle débutera à partir de 13h. \n 
URL:https://www.seldon-finance.com/formation/montpellier-decryptage-plf-2023/
LOCATION:Montpellier
CATEGORIES:Les rendez-vous financiers
ATTACH;FMTTYPE=image/png:https://www.seldon-finance.com/wp-content/uploads/2022/07/rdv-financiers_96x96.png
END:VEVENT
END:VCALENDAR